Package: hierinf Version: 1.25.0 Command: /home/biocbuild/R/R/bin/R CMD build --keep-empty-dirs --no-resave-data hierinf StartedAt: 2025-01-28 23:36:20 -0000 (Tue, 28 Jan 2025) EndedAt: 2025-01-28 23:39:30 -0000 (Tue, 28 Jan 2025) EllapsedTime: 190.0 seconds RetCode: 0 Status: OK PackageFile: hierinf_1.25.0.tar.gz PackageFileSize: 545 KiB