Package: hierinf Version: 1.25.0 Command: /home/biocbuild/R/R/bin/R CMD check --install=check:hierinf.install-out.txt --library=/home/biocbuild/R/R/site-library --no-vignettes --timings hierinf_1.25.0.tar.gz StartedAt: 2025-01-28 11:28:28 -0000 (Tue, 28 Jan 2025) EndedAt: 2025-01-28 11:33:35 -0000 (Tue, 28 Jan 2025) EllapsedTime: 306.3 seconds RetCode: 1 Status: ERROR CheckDir: hierinf.Rcheck Warnings: NA