Package: hierinf Version: 1.25.0 Command: rm -rf hierinf.buildbin-libdir && mkdir hierinf.buildbin-libdir && /Users/biocbuild/BBS/utils/build-universal.sh hierinf_1.25.0.tar.gz /Library/Frameworks/R.framework/Resources/bin/R hierinf.buildbin-libdir StartedAt: 2025-02-04 00:38:21 -0500 (Tue, 04 Feb 2025) EndedAt: 2025-02-04 00:38:28 -0500 (Tue, 04 Feb 2025) EllapsedTime: 6.9 seconds RetCode: 0 Status: OK PackageFile: hierinf_1.25.0.tgz PackageFileSize: 499.9 KiB