Package: hierinf Version: 1.25.0 Command: /home/biocbuild/bbs-3.21-bioc/R/bin/R CMD check --install=check:hierinf.install-out.txt --library=/home/biocbuild/bbs-3.21-bioc/R/site-library --timings hierinf_1.25.0.tar.gz StartedAt: 2025-02-03 23:16:49 -0500 (Mon, 03 Feb 2025) EndedAt: 2025-02-03 23:21:02 -0500 (Mon, 03 Feb 2025) EllapsedTime: 253.3 seconds RetCode: 0 Status: OK CheckDir: hierinf.Rcheck Warnings: 0