Package: hierinf Version: 1.25.0 Command: rm -rf hierinf.buildbin-libdir && mkdir hierinf.buildbin-libdir && E:\biocbuild\bbs-3.21-bioc\R\bin\R.exe CMD INSTALL --build --library=hierinf.buildbin-libdir hierinf_1.25.0.tar.gz StartedAt: 2025-02-04 08:08:56 -0500 (Tue, 04 Feb 2025) EndedAt: 2025-02-04 08:09:08 -0500 (Tue, 04 Feb 2025) EllapsedTime: 11.9 seconds RetCode: 0 Status: OK PackageFile: hierinf_1.25.0.zip PackageFileSize: 502 KiB