Package: hierinf Version: 1.25.0 Command: chmod a+r hierinf -R && E:\biocbuild\bbs-3.21-bioc\R\bin\R.exe CMD build --keep-empty-dirs --no-resave-data hierinf StartedAt: 2025-02-03 19:26:35 -0500 (Mon, 03 Feb 2025) EndedAt: 2025-02-03 19:28:12 -0500 (Mon, 03 Feb 2025) EllapsedTime: 96.7 seconds RetCode: 0 Status: OK PackageFile: hierinf_1.25.0.tar.gz PackageFileSize: 430.8 KiB