Package: hierinf Version: 1.25.0 Command: E:\biocbuild\bbs-3.21-bioc\R\bin\R.exe CMD check --no-multiarch --install=check:hierinf.install-out.txt --library=E:\biocbuild\bbs-3.21-bioc\R\library --no-vignettes --timings hierinf_1.25.0.tar.gz StartedAt: 2025-02-04 02:25:35 -0500 (Tue, 04 Feb 2025) EndedAt: 2025-02-04 02:29:14 -0500 (Tue, 04 Feb 2025) EllapsedTime: 219.0 seconds RetCode: 0 Status: OK CheckDir: hierinf.Rcheck Warnings: 0