Package: hipathia Version: 3.7.0 Maintainer: Marta R. Hidalgo MaintainerEmail: marta.hidalgo at outlook.es git_url: https://git.bioconductor.org/packages/hipathia git_branch: devel git_last_commit: eda829a git_last_commit_date: 2024-10-29 10:27:50 -0500 (Tue, 29 Oct 2024)