############################################################################## ############################################################################## ### ### Running command: ### ### /home/biocbuild/R/R/bin/R CMD check --install=check:hipathia.install-out.txt --library=/home/biocbuild/R/R/site-library --no-vignettes --timings hipathia_3.7.0.tar.gz ### ############################################################################## ############################################################################## * using log directory ‘/home/biocbuild/bbs-3.21-bioc/meat/hipathia.Rcheck’ * using R Under development (unstable) (2024-11-24 r87369) * using platform: aarch64-unknown-linux-gnu * R was compiled by aarch64-unknown-linux-gnu-gcc (GCC) 14.2.0 GNU Fortran (GCC) 14.2.0 * running under: openEuler 24.03 (LTS) * using session charset: UTF-8 * using option ‘--no-vignettes’ * checking for file ‘hipathia/DESCRIPTION’ ... OK * this is package ‘hipathia’ version ‘3.7.0’ * package encoding: UTF-8 * checking package namespace information ... OK * checking package dependencies ... OK * checking if this is a source package ... OK * checking if there is a namespace ... OK * checking for hidden files and directories ... OK * checking for portable file names ... OK * checking for sufficient/correct file permissions ... OK * checking whether package ‘hipathia’ can be installed ... OK * checking installed package size ... INFO installed size is 9.0Mb sub-directories of 1Mb or more: data 4.1Mb extdata 4.5Mb * checking package directory ... OK * checking ‘build’ directory ... OK * checking DESCRIPTION meta-information ... OK * checking top-level files ... OK * checking for left-over files ... OK * checking index information ... OK * checking package subdirectories ... OK * checking code files for non-ASCII characters ... OK * checking R files for syntax errors ... OK * checking whether the package can be loaded ... OK * checking whether the package can be loaded with stated dependencies ... OK * checking whether the package can be unloaded cleanly ... OK * checking whether the namespace can be loaded with stated dependencies ... OK * checking whether the namespace can be unloaded cleanly ... OK * checking loading without being on the library search path ... OK * checking dependencies in R code ... OK * checking S3 generic/method consistency ... OK * checking replacement functions ... OK * checking foreign function calls ... OK * checking R code for possible problems ... NOTE DAreport: no visible binding for global variable ‘ID’ DAreport: no visible binding for global variable ‘FDRp.value’ DAtop : : no visible binding for global variable ‘FDRp.value’ DAtop : : no visible binding for global variable ‘statistic’ DAtop : : no visible binding for global variable ‘p.value’ DAtop : : no visible binding for global variable ‘name’ DAtop : : no visible binding for global variable ‘logPV’ DAtop : : no visible binding for global variable ‘feature’ DAtop: no visible binding for global variable ‘name’ DAtop: no visible binding for global variable ‘logPV’ DAtop: no visible binding for global variable ‘direction’ get_edges_df: no visible binding for global variable ‘from’ get_edges_df: no visible binding for global variable ‘to’ nsig_plot: no visible binding for global variable ‘total’ nsig_plot: no visible binding for global variable ‘UPs’ nsig_plot: no visible binding for global variable ‘DOWNs’ nsig_plot: no visible binding for global variable ‘feature’ nsig_plot: no visible binding for global variable ‘UP’ nsig_plot: no visible binding for global variable ‘DOWN’ nsig_plot: no visible binding for global variable ‘Not’ nsig_plot: no visible binding for global variable ‘value’ nsig_plot: no visible binding for global variable ‘variable’ prepare_DAedges: no visible binding for global variable ‘to’ prepare_DAedges: no visible binding for global variable ‘functional’ prepare_DAedges: no visible binding for global variable ‘status’ prepare_DAedges: no visible binding for global variable ‘type’ prepare_DAnodes : : no visible binding for global variable ‘ID’ prepare_DAnodes : : no visible binding for global variable ‘FDRp.value’ prepare_DAnodes : : no visible binding for global variable ‘statistic’ prepare_DAnodes : : no visible binding for global variable ‘p.value’ prepare_edges: no visible binding for global variable ‘to’ prepare_edges: no visible binding for global variable ‘functional’ summary_plot: no visible binding for global variable ‘total’ summary_plot: no visible binding for global variable ‘UPs’ summary_plot: no visible binding for global variable ‘DOWNs’ summary_plot: no visible binding for global variable ‘name’ summary_plot: no visible binding for global variable ‘UP’ summary_plot: no visible binding for global variable ‘DOWN’ summary_plot: no visible binding for global variable ‘Not’ summary_plot: no visible binding for global variable ‘value’ summary_plot: no visible binding for global variable ‘variable’ summary_plot: no visible binding for global variable ‘UP.nodes’ summary_plot: no visible binding for global variable ‘DOWN.nodes’ summary_plot: no visible binding for global variable ‘nodes’ summary_plot: no visible binding for global variable ‘ratio.sigs’ summary_plot: no visible binding for global variable ‘ratio.UPs’ summary_plot: no visible binding for global variable ‘ratio.DOWNs’ Undefined global functions or variables: DOWN DOWN.nodes DOWNs FDRp.value ID Not UP UP.nodes UPs direction feature from functional logPV name nodes p.value ratio.DOWNs ratio.UPs ratio.sigs statistic status to total type value variable * checking Rd files ... OK * checking Rd metadata ... OK * checking Rd cross-references ... OK * checking for missing documentation entries ... OK * checking for code/documentation mismatches ... OK * checking Rd \usage sections ... OK * checking Rd contents ... OK * checking for unstated dependencies in examples ... OK * checking contents of ‘data’ directory ... OK * checking data for non-ASCII characters ... OK * checking LazyData ... OK * checking data for ASCII and uncompressed saves ... OK * checking files in ‘vignettes’ ... OK * checking examples ... OK Examples with CPU (user + system) or elapsed time > 5s user system elapsed quantify_terms 35.583 2.921 48.255 create_report 28.940 1.532 34.879 hipathia 27.795 1.006 31.443 normalize_data 28.285 0.504 31.858 translate_data 27.099 0.491 30.393 get_pathways_annotations 26.050 1.473 32.877 node_color 24.342 1.229 28.629 normalize_paths 24.946 0.474 28.231 load_pathways 24.090 1.241 27.977 get_node_names 24.455 0.817 27.624 get_pathways_summary 23.600 1.628 27.893 save_results 23.519 1.687 27.585 node_color_per_de 24.342 0.861 27.913 pathway_comparison_plot 24.281 0.715 27.713 visualize_report 24.174 0.215 28.185 get_pathways_list 22.618 1.588 26.411 get_path_names 22.886 1.129 27.041 get_go_names 5.402 0.683 9.641 * checking for unstated dependencies in ‘tests’ ... OK * checking tests ... Running ‘testthat.R’ OK * checking for unstated dependencies in vignettes ... OK * checking package vignettes ... OK * checking running R code from vignettes ... SKIPPED * checking re-building of vignette outputs ... SKIPPED * checking PDF version of manual ... OK * DONE Status: 1 NOTE See ‘/home/biocbuild/bbs-3.21-bioc/meat/hipathia.Rcheck/00check.log’ for details.