Package: hipathia Version: 3.7.0 Command: /home/biocbuild/R/R/bin/R CMD check --install=check:hipathia.install-out.txt --library=/home/biocbuild/R/R/site-library --no-vignettes --timings hipathia_3.7.0.tar.gz StartedAt: 2025-01-28 11:30:05 -0000 (Tue, 28 Jan 2025) EndedAt: 2025-01-28 11:51:34 -0000 (Tue, 28 Jan 2025) EllapsedTime: 1288.3 seconds RetCode: 0 Status: OK CheckDir: hipathia.Rcheck Warnings: 0