Package: hipathia Version: 3.7.0 Command: /home/biocbuild/R/R/bin/R CMD INSTALL hipathia StartedAt: 2025-01-29 20:32:50 -0000 (Wed, 29 Jan 2025) EndedAt: 2025-01-29 20:33:41 -0000 (Wed, 29 Jan 2025) EllapsedTime: 51.1 seconds RetCode: 0 Status: OK