Package: hipathia Version: 3.7.0 Command: /home/biocbuild/bbs-3.21-bioc/R/bin/R CMD check --install=check:hipathia.install-out.txt --library=/home/biocbuild/bbs-3.21-bioc/R/site-library --timings hipathia_3.7.0.tar.gz StartedAt: 2025-02-09 23:10:17 -0500 (Sun, 09 Feb 2025) EndedAt: 2025-02-09 23:30:37 -0500 (Sun, 09 Feb 2025) EllapsedTime: 1219.6 seconds RetCode: 0 Status: OK CheckDir: hipathia.Rcheck Warnings: 0