Package: hipathia Version: 3.7.0 Command: chmod a+r hipathia -R && E:\biocbuild\bbs-3.21-bioc\R\bin\R.exe CMD build --keep-empty-dirs --no-resave-data hipathia StartedAt: 2025-02-09 19:14:33 -0500 (Sun, 09 Feb 2025) EndedAt: 2025-02-09 19:28:10 -0500 (Sun, 09 Feb 2025) EllapsedTime: 817.1 seconds RetCode: 0 Status: OK PackageFile: hipathia_3.7.0.tar.gz PackageFileSize: 7.76 MiB