Package: hipathia Version: 3.7.0 Command: E:\biocbuild\bbs-3.21-bioc\R\bin\R.exe CMD INSTALL hipathia StartedAt: 2025-02-12 16:57:01 -0500 (Wed, 12 Feb 2025) EndedAt: 2025-02-12 16:59:25 -0500 (Wed, 12 Feb 2025) EllapsedTime: 144.3 seconds RetCode: 0 Status: OK