Package: hoodscanR Version: 1.5.2 Maintainer: Ning Liu MaintainerEmail: ning.liu at adelaide.edu.au git_url: https://git.bioconductor.org/packages/hoodscanR git_branch: devel git_last_commit: 83a157c git_last_commit_date: 2025-02-09 05:29:49 -0500 (Sun, 09 Feb 2025)