Package: hoodscanR Version: 1.5.1 Command: /home/biocbuild/R/R/bin/R CMD build --keep-empty-dirs --no-resave-data hoodscanR StartedAt: 2025-01-28 23:38:58 -0000 (Tue, 28 Jan 2025) EndedAt: 2025-01-28 23:40:17 -0000 (Tue, 28 Jan 2025) EllapsedTime: 79.0 seconds RetCode: 0 Status: OK PackageFile: hoodscanR_1.5.1.tar.gz PackageFileSize: 1.529 MiB