Package: hoodscanR Version: 1.5.1 Command: /home/biocbuild/R/R/bin/R CMD INSTALL hoodscanR StartedAt: 2025-01-29 20:04:53 -0000 (Wed, 29 Jan 2025) EndedAt: 2025-01-29 20:05:36 -0000 (Wed, 29 Jan 2025) EllapsedTime: 43.0 seconds RetCode: 0 Status: OK