Package: hoodscanR Version: 1.5.2 Command: rm -rf hoodscanR.buildbin-libdir && mkdir hoodscanR.buildbin-libdir && /Users/biocbuild/BBS/utils/build-universal.sh hoodscanR_1.5.2.tar.gz /Library/Frameworks/R.framework/Resources/bin/R hoodscanR.buildbin-libdir StartedAt: 2025-02-10 00:58:02 -0500 (Mon, 10 Feb 2025) EndedAt: 2025-02-10 00:58:48 -0500 (Mon, 10 Feb 2025) EllapsedTime: 46.7 seconds RetCode: 0 Status: OK PackageFile: hoodscanR_1.5.2.tgz PackageFileSize: 3.128 MiB