Package: hoodscanR Version: 1.5.2 Command: /Library/Frameworks/R.framework/Resources/bin/R CMD build --keep-empty-dirs --no-resave-data hoodscanR StartedAt: 2025-02-09 17:06:13 -0500 (Sun, 09 Feb 2025) EndedAt: 2025-02-09 17:07:18 -0500 (Sun, 09 Feb 2025) EllapsedTime: 65.2 seconds RetCode: 0 Status: OK PackageFile: hoodscanR_1.5.2.tar.gz PackageFileSize: 3.035 MiB