Package: hoodscanR Version: 1.5.2 Command: /home/biocbuild/bbs-3.21-bioc/R/bin/R CMD build --keep-empty-dirs --no-resave-data hoodscanR StartedAt: 2025-02-09 17:40:14 -0500 (Sun, 09 Feb 2025) EndedAt: 2025-02-09 17:41:12 -0500 (Sun, 09 Feb 2025) EllapsedTime: 57.1 seconds RetCode: 0 Status: OK PackageFile: hoodscanR_1.5.2.tar.gz PackageFileSize: 2.831 MiB