Package: hoodscanR Version: 1.5.2 Command: /home/biocbuild/bbs-3.21-bioc/R/bin/R CMD check --install=check:hoodscanR.install-out.txt --library=/home/biocbuild/bbs-3.21-bioc/R/site-library --timings hoodscanR_1.5.2.tar.gz StartedAt: 2025-02-09 23:12:09 -0500 (Sun, 09 Feb 2025) EndedAt: 2025-02-09 23:16:11 -0500 (Sun, 09 Feb 2025) EllapsedTime: 241.4 seconds RetCode: 0 Status: OK CheckDir: hoodscanR.Rcheck Warnings: 0