Package: hoodscanR Version: 1.5.2 Command: /home/biocbuild/bbs-3.21-bioc/R/bin/R CMD INSTALL hoodscanR StartedAt: 2025-02-09 15:19:51 -0500 (Sun, 09 Feb 2025) EndedAt: 2025-02-09 15:20:21 -0500 (Sun, 09 Feb 2025) EllapsedTime: 29.9 seconds RetCode: 0 Status: OK