Package: hoodscanR Version: 1.5.2 Command: rm -rf hoodscanR.buildbin-libdir && mkdir hoodscanR.buildbin-libdir && E:\biocbuild\bbs-3.21-bioc\R\bin\R.exe CMD INSTALL --build --library=hoodscanR.buildbin-libdir hoodscanR_1.5.2.tar.gz StartedAt: 2025-02-10 07:56:06 -0500 (Mon, 10 Feb 2025) EndedAt: 2025-02-10 07:58:28 -0500 (Mon, 10 Feb 2025) EllapsedTime: 142.4 seconds RetCode: 0 Status: OK PackageFile: hoodscanR_1.5.2.zip PackageFileSize: 1.565 MiB