Package: hoodscanR Version: 1.5.2 Command: E:\biocbuild\bbs-3.21-bioc\R\bin\R.exe CMD INSTALL hoodscanR StartedAt: 2025-02-09 16:25:52 -0500 (Sun, 09 Feb 2025) EndedAt: 2025-02-09 16:26:37 -0500 (Sun, 09 Feb 2025) EllapsedTime: 44.5 seconds RetCode: 0 Status: OK