Package: hopach Version: 2.67.0 Command: /Library/Frameworks/R.framework/Resources/bin/R CMD check --install=check:hopach.install-out.txt --library=/Library/Frameworks/R.framework/Resources/library --no-vignettes --timings hopach_2.67.0.tar.gz StartedAt: 2025-02-09 19:39:34 -0500 (Sun, 09 Feb 2025) EndedAt: 2025-02-09 19:39:56 -0500 (Sun, 09 Feb 2025) EllapsedTime: 22.3 seconds RetCode: 0 Status: OK CheckDir: hopach.Rcheck Warnings: 0