Package: hopach Version: 2.67.0 Command: /Library/Frameworks/R.framework/Resources/bin/R CMD INSTALL hopach StartedAt: 2025-02-09 15:01:30 -0500 (Sun, 09 Feb 2025) EndedAt: 2025-02-09 15:01:35 -0500 (Sun, 09 Feb 2025) EllapsedTime: 5.7 seconds RetCode: 0 Status: OK