Package: hopach Version: 2.67.0 Command: /Library/Frameworks/R.framework/Resources/bin/R CMD INSTALL hopach StartedAt: 2025-02-09 15:05:14 -0500 (Sun, 09 Feb 2025) EndedAt: 2025-02-09 15:05:39 -0500 (Sun, 09 Feb 2025) EllapsedTime: 24.6 seconds RetCode: 0 Status: OK