Package: hopach Version: 2.67.0 Command: rm -rf hopach.buildbin-libdir && mkdir hopach.buildbin-libdir && E:\biocbuild\bbs-3.21-bioc\R\bin\R.exe CMD INSTALL --build --library=hopach.buildbin-libdir hopach_2.67.0.tar.gz StartedAt: 2025-02-10 07:56:11 -0500 (Mon, 10 Feb 2025) EndedAt: 2025-02-10 07:56:43 -0500 (Mon, 10 Feb 2025) EllapsedTime: 31.6 seconds RetCode: 0 Status: OK PackageFile: hopach_2.67.0.zip PackageFileSize: 977.3 KiB