Package: hopach Version: 2.67.0 Command: E:\biocbuild\bbs-3.21-bioc\R\bin\R.exe CMD INSTALL hopach StartedAt: 2025-02-09 15:24:09 -0500 (Sun, 09 Feb 2025) EndedAt: 2025-02-09 15:24:36 -0500 (Sun, 09 Feb 2025) EllapsedTime: 27.1 seconds RetCode: 0 Status: OK