Package: hpar Version: 1.49.0 Command: /Library/Frameworks/R.framework/Resources/bin/R CMD build --keep-empty-dirs --no-resave-data hpar StartedAt: 2025-02-09 16:38:23 -0500 (Sun, 09 Feb 2025) EndedAt: 2025-02-09 16:38:38 -0500 (Sun, 09 Feb 2025) EllapsedTime: 15.2 seconds RetCode: 0 Status: OK PackageFile: hpar_1.49.0.tar.gz PackageFileSize: 885.3 KiB