Package: hpar Version: 1.49.0 Command: /home/biocbuild/R/R/bin/R CMD build --keep-empty-dirs --no-resave-data hpar StartedAt: 2025-01-28 23:39:30 -0000 (Tue, 28 Jan 2025) EndedAt: 2025-01-28 23:40:32 -0000 (Tue, 28 Jan 2025) EllapsedTime: 62.0 seconds RetCode: 0 Status: OK PackageFile: hpar_1.49.0.tar.gz PackageFileSize: 983.1 KiB