Package: hpar Version: 1.49.0 Command: /home/biocbuild/bbs-3.21-bioc/R/bin/R CMD INSTALL hpar StartedAt: 2025-02-12 15:27:13 -0500 (Wed, 12 Feb 2025) EndedAt: 2025-02-12 15:27:27 -0500 (Wed, 12 Feb 2025) EllapsedTime: 13.8 seconds RetCode: 0 Status: OK