Package: hpar Version: 1.49.0 Command: chmod a+r hpar -R && E:\biocbuild\bbs-3.21-bioc\R\bin\R.exe CMD build --keep-empty-dirs --no-resave-data hpar StartedAt: 2025-02-09 19:16:42 -0500 (Sun, 09 Feb 2025) EndedAt: 2025-02-09 19:18:29 -0500 (Sun, 09 Feb 2025) EllapsedTime: 107.7 seconds RetCode: 0 Status: OK PackageFile: hpar_1.49.0.tar.gz PackageFileSize: 885.6 KiB