Package: hpar Version: 1.49.0 Command: E:\biocbuild\bbs-3.21-bioc\R\bin\R.exe CMD INSTALL hpar StartedAt: 2025-02-09 15:48:00 -0500 (Sun, 09 Feb 2025) EndedAt: 2025-02-09 15:48:22 -0500 (Sun, 09 Feb 2025) EllapsedTime: 22.3 seconds RetCode: 0 Status: OK