Package: hummingbird Version: 1.17.0 Command: /Library/Frameworks/R.framework/Resources/bin/R CMD INSTALL hummingbird StartedAt: 2025-02-12 15:04:36 -0500 (Wed, 12 Feb 2025) EndedAt: 2025-02-12 15:04:38 -0500 (Wed, 12 Feb 2025) EllapsedTime: 1.6 seconds RetCode: 1 Status: ERROR