Package: hummingbird Version: 1.17.0 Command: /home/biocbuild/R/R/bin/R CMD INSTALL hummingbird StartedAt: 2025-01-29 19:40:24 -0000 (Wed, 29 Jan 2025) EndedAt: 2025-01-29 19:40:29 -0000 (Wed, 29 Jan 2025) EllapsedTime: 4.8 seconds RetCode: 1 Status: ERROR