Package: hummingbird Version: 1.17.0 Command: /Library/Frameworks/R.framework/Resources/bin/R CMD build --keep-empty-dirs --no-resave-data hummingbird StartedAt: 2025-02-09 17:06:53 -0500 (Sun, 09 Feb 2025) EndedAt: 2025-02-09 17:06:58 -0500 (Sun, 09 Feb 2025) EllapsedTime: 4.6 seconds RetCode: 1 Status: ERROR PackageFile: None PackageFileSize: NA