Package: hummingbird Version: 1.17.0 Command: /home/biocbuild/bbs-3.21-bioc/R/bin/R CMD INSTALL hummingbird StartedAt: 2025-02-09 15:18:15 -0500 (Sun, 09 Feb 2025) EndedAt: 2025-02-09 15:18:18 -0500 (Sun, 09 Feb 2025) EllapsedTime: 3.2 seconds RetCode: 1 Status: ERROR