Package: hummingbird Version: 1.17.0 Command: rm -rf hummingbird.buildbin-libdir && mkdir hummingbird.buildbin-libdir && E:\biocbuild\bbs-3.21-bioc\R\bin\R.exe CMD INSTALL --build --library=hummingbird.buildbin-libdir hummingbird_1.17.0.tar.gz StartedAt: 2025-01-22 07:48:05 -0500 (Wed, 22 Jan 2025) EndedAt: 2025-01-22 07:49:42 -0500 (Wed, 22 Jan 2025) EllapsedTime: 96.5 seconds RetCode: 0 Status: OK PackageFile: hummingbird_1.17.0.zip PackageFileSize: 726.4 KiB