Package: hummingbird Version: 1.17.0 Command: chmod a+r hummingbird -R && E:\biocbuild\bbs-3.21-bioc\R\bin\R.exe CMD build --keep-empty-dirs --no-resave-data hummingbird StartedAt: 2025-02-09 19:17:45 -0500 (Sun, 09 Feb 2025) EndedAt: 2025-02-09 19:17:55 -0500 (Sun, 09 Feb 2025) EllapsedTime: 9.9 seconds RetCode: 1 Status: ERROR PackageFile: None PackageFileSize: NA