Package: hummingbird Version: 1.17.0 Command: E:\biocbuild\bbs-3.21-bioc\R\bin\R.exe CMD check --no-multiarch --install=check:hummingbird.install-out.txt --library=E:\biocbuild\bbs-3.21-bioc\R\library --no-vignettes --timings hummingbird_1.17.0.tar.gz StartedAt: 2025-01-22 02:04:23 -0500 (Wed, 22 Jan 2025) EndedAt: 2025-01-22 02:07:27 -0500 (Wed, 22 Jan 2025) EllapsedTime: 184.0 seconds RetCode: 0 Status: OK CheckDir: hummingbird.Rcheck Warnings: 0