Package: hummingbird Version: 1.17.0 Command: E:\biocbuild\bbs-3.21-bioc\R\bin\R.exe CMD INSTALL hummingbird StartedAt: 2025-02-09 16:09:50 -0500 (Sun, 09 Feb 2025) EndedAt: 2025-02-09 16:09:55 -0500 (Sun, 09 Feb 2025) EllapsedTime: 5.0 seconds RetCode: 1 Status: ERROR