Package: hypeR Version: 2.5.0 Command: rm -rf hypeR.buildbin-libdir && mkdir hypeR.buildbin-libdir && /Users/biocbuild/BBS/utils/build-universal.sh hypeR_2.5.0.tar.gz /Library/Frameworks/R.framework/Resources/bin/R hypeR.buildbin-libdir StartedAt: 2025-02-09 22:17:39 -0500 (Sun, 09 Feb 2025) EndedAt: 2025-02-09 22:17:43 -0500 (Sun, 09 Feb 2025) EllapsedTime: 4.1 seconds RetCode: 0 Status: OK PackageFile: hypeR_2.5.0.tgz PackageFileSize: 596.5 KiB