Package: hypeR Version: 2.5.0 Command: /Library/Frameworks/R.framework/Resources/bin/R CMD check --install=check:hypeR.install-out.txt --library=/Library/Frameworks/R.framework/Resources/library --no-vignettes --timings hypeR_2.5.0.tar.gz StartedAt: 2025-02-09 19:40:21 -0500 (Sun, 09 Feb 2025) EndedAt: 2025-02-09 19:41:21 -0500 (Sun, 09 Feb 2025) EllapsedTime: 59.8 seconds RetCode: 0 Status: WARNINGS CheckDir: hypeR.Rcheck Warnings: 2