Package: hypeR Version: 2.5.0 Command: /Library/Frameworks/R.framework/Resources/bin/R CMD INSTALL hypeR StartedAt: 2025-02-09 15:26:46 -0500 (Sun, 09 Feb 2025) EndedAt: 2025-02-09 15:26:50 -0500 (Sun, 09 Feb 2025) EllapsedTime: 4.1 seconds RetCode: 0 Status: OK