Package: hypeR Version: 2.5.0 Command: rm -rf hypeR.buildbin-libdir && mkdir hypeR.buildbin-libdir && /Users/biocbuild/BBS/utils/build-universal.sh hypeR_2.5.0.tar.gz /Library/Frameworks/R.framework/Resources/bin/R hypeR.buildbin-libdir StartedAt: 2025-02-10 00:58:11 -0500 (Mon, 10 Feb 2025) EndedAt: 2025-02-10 00:58:27 -0500 (Mon, 10 Feb 2025) EllapsedTime: 16.3 seconds RetCode: 0 Status: OK PackageFile: hypeR_2.5.0.tgz PackageFileSize: 592.9 KiB