Package: hypeR Version: 2.5.0 Command: /Library/Frameworks/R.framework/Resources/bin/R CMD build --keep-empty-dirs --no-resave-data hypeR StartedAt: 2025-02-09 17:06:58 -0500 (Sun, 09 Feb 2025) EndedAt: 2025-02-09 17:07:18 -0500 (Sun, 09 Feb 2025) EllapsedTime: 20.7 seconds RetCode: 0 Status: OK PackageFile: hypeR_2.5.0.tar.gz PackageFileSize: 316.4 KiB