Package: hypeR Version: 2.5.0 Command: rm -rf hypeR.buildbin-libdir && mkdir hypeR.buildbin-libdir && E:\biocbuild\bbs-3.21-bioc\R\bin\R.exe CMD INSTALL --build --library=hypeR.buildbin-libdir hypeR_2.5.0.tar.gz StartedAt: 2025-02-10 07:56:33 -0500 (Mon, 10 Feb 2025) EndedAt: 2025-02-10 07:57:03 -0500 (Mon, 10 Feb 2025) EllapsedTime: 30.7 seconds RetCode: 0 Status: OK PackageFile: hypeR_2.5.0.zip PackageFileSize: 599.9 KiB