Package: hypeR Version: 2.5.0 Command: chmod a+r hypeR -R && E:\biocbuild\bbs-3.21-bioc\R\bin\R.exe CMD build --keep-empty-dirs --no-resave-data hypeR StartedAt: 2025-02-09 19:17:52 -0500 (Sun, 09 Feb 2025) EndedAt: 2025-02-09 19:18:17 -0500 (Sun, 09 Feb 2025) EllapsedTime: 24.7 seconds RetCode: 0 Status: OK PackageFile: hypeR_2.5.0.tar.gz PackageFileSize: 316.5 KiB