Package: hypeR Version: 2.5.0 Command: E:\biocbuild\bbs-3.21-bioc\R\bin\R.exe CMD check --no-multiarch --install=check:hypeR.install-out.txt --library=E:\biocbuild\bbs-3.21-bioc\R\library --no-vignettes --timings hypeR_2.5.0.tar.gz StartedAt: 2025-02-10 02:01:13 -0500 (Mon, 10 Feb 2025) EndedAt: 2025-02-10 02:05:03 -0500 (Mon, 10 Feb 2025) EllapsedTime: 229.8 seconds RetCode: 0 Status: WARNINGS CheckDir: hypeR.Rcheck Warnings: 2